BEGIN:VCALENDAR
VERSION:2.0
PRODID:-//Quartier Neder-Over-Heembeek - ECPv6.15.20//NONSGML v1.0//EN
CALSCALE:GREGORIAN
METHOD:PUBLISH
X-WR-CALNAME:Quartier Neder-Over-Heembeek
X-ORIGINAL-URL:https://quartier-noh.be
X-WR-CALDESC:Évènements pour Quartier Neder-Over-Heembeek
REFRESH-INTERVAL;VALUE=DURATION:PT1H
X-Robots-Tag:noindex
X-PUBLISHED-TTL:PT1H
BEGIN:VTIMEZONE
TZID:Europe/Brussels
BEGIN:DAYLIGHT
TZOFFSETFROM:+0100
TZOFFSETTO:+0200
TZNAME:CEST
DTSTART:20220327T010000
END:DAYLIGHT
BEGIN:STANDARD
TZOFFSETFROM:+0200
TZOFFSETTO:+0100
TZNAME:CET
DTSTART:20221030T010000
END:STANDARD
BEGIN:DAYLIGHT
TZOFFSETFROM:+0100
TZOFFSETTO:+0200
TZNAME:CEST
DTSTART:20230326T010000
END:DAYLIGHT
BEGIN:STANDARD
TZOFFSETFROM:+0200
TZOFFSETTO:+0100
TZNAME:CET
DTSTART:20231029T010000
END:STANDARD
BEGIN:DAYLIGHT
TZOFFSETFROM:+0100
TZOFFSETTO:+0200
TZNAME:CEST
DTSTART:20240331T010000
END:DAYLIGHT
BEGIN:STANDARD
TZOFFSETFROM:+0200
TZOFFSETTO:+0100
TZNAME:CET
DTSTART:20241027T010000
END:STANDARD
END:VTIMEZONE
BEGIN:VEVENT
DTSTART;TZID=Europe/Brussels:20230826T140000
DTEND;TZID=Europe/Brussels:20230826T200000
DTSTAMP:20260426T031412
CREATED:20230727T063256Z
LAST-MODIFIED:20230828T061911Z
UID:10001199-1693058400-1693080000@quartier-noh.be
SUMMARY:Le 26/08\, Tournoi de foot 7vs7 Cup
DESCRIPTION:Le Futsal BXL – NOH et le Sporting Bruxelles lancent leur premier tournoi 7vs7 au centre sportif de Neder-Over-Heembeek\, au 99\, petit chemin vert. \nTournoi 7vs7 2500 € pour les premiers 500 € pour les deuxièmes et 250 € pour les troisièmes ! \n\nAmbiance familiale\, château gonflable\, hamburgers\, frites\, barbecue\,  fairplay et plaisir
URL:https://quartier-noh.be/agenda/le-26-08-tournoi-de-foot-7vs7-cup/
LOCATION:Centre Sportif Petit Chemin Vert\, Petit Chemin Vert\, 99\, Bruxelles\, 1120\, Belgique
ATTACH;FMTTYPE=image/jpeg:https://quartier-noh.be/wp-content/uploads/2023/08/Capture-decran-2023-08-10-a-08.34.08.jpg
GEO:50.8995958;4.3937223
X-APPLE-STRUCTURED-LOCATION;VALUE=URI;X-ADDRESS=Centre Sportif Petit Chemin Vert Petit Chemin Vert 99 Bruxelles 1120 Belgique;X-APPLE-RADIUS=500;X-TITLE=Petit Chemin Vert\, 99:geo:4.3937223,50.8995958
END:VEVENT
BEGIN:VEVENT
DTSTART;TZID=Europe/Brussels:20230528T123000
DTEND;TZID=Europe/Brussels:20230528T143000
DTSTAMP:20260426T031412
CREATED:20230419T054521Z
LAST-MODIFIED:20230528T184349Z
UID:10001164-1685277000-1685284200@quartier-noh.be
SUMMARY:Le 28/05\, balade guidée "Aulnaie marécageuse et forêt urbaine"
DESCRIPTION:Dans le cadre de la semaine de la biodiversité\, une balade guidée est organisée ce dimanche 28/05 de 10h30 à 12h30 : \nBalade guidée nature “Aulnaie marécageuse et forêt urbaine de Neder-Over-Heembeek” \nRéservation obligatoire : biodiversite@brucity.be \nRendez-vous au parking du centre sportif du Petit Chemin Vert à 10h30 précise. 
URL:https://quartier-noh.be/agenda/le-28-05-balade-guidee-aulnaie-marecageuse-et-foret-urbaine/
LOCATION:Centre Sportif Petit Chemin Vert\, Petit Chemin Vert\, 99\, Bruxelles\, 1120\, Belgique
ATTACH;FMTTYPE=image/jpeg:https://quartier-noh.be/wp-content/uploads/2023/05/etang-imea.jpg
GEO:50.8995958;4.3937223
X-APPLE-STRUCTURED-LOCATION;VALUE=URI;X-ADDRESS=Centre Sportif Petit Chemin Vert Petit Chemin Vert 99 Bruxelles 1120 Belgique;X-APPLE-RADIUS=500;X-TITLE=Petit Chemin Vert\, 99:geo:4.3937223,50.8995958
END:VEVENT
END:VCALENDAR