BEGIN:VCALENDAR
VERSION:2.0
PRODID:-//Quartier Neder-Over-Heembeek - ECPv6.15.20//NONSGML v1.0//EN
CALSCALE:GREGORIAN
METHOD:PUBLISH
X-WR-CALNAME:Quartier Neder-Over-Heembeek
X-ORIGINAL-URL:https://quartier-noh.be
X-WR-CALDESC:Évènements pour Quartier Neder-Over-Heembeek
REFRESH-INTERVAL;VALUE=DURATION:PT1H
X-Robots-Tag:noindex
X-PUBLISHED-TTL:PT1H
BEGIN:VTIMEZONE
TZID:Europe/Brussels
BEGIN:DAYLIGHT
TZOFFSETFROM:+0100
TZOFFSETTO:+0200
TZNAME:CEST
DTSTART:20220327T010000
END:DAYLIGHT
BEGIN:STANDARD
TZOFFSETFROM:+0200
TZOFFSETTO:+0100
TZNAME:CET
DTSTART:20221030T010000
END:STANDARD
BEGIN:DAYLIGHT
TZOFFSETFROM:+0100
TZOFFSETTO:+0200
TZNAME:CEST
DTSTART:20230326T010000
END:DAYLIGHT
BEGIN:STANDARD
TZOFFSETFROM:+0200
TZOFFSETTO:+0100
TZNAME:CET
DTSTART:20231029T010000
END:STANDARD
BEGIN:DAYLIGHT
TZOFFSETFROM:+0100
TZOFFSETTO:+0200
TZNAME:CEST
DTSTART:20240331T010000
END:DAYLIGHT
BEGIN:STANDARD
TZOFFSETFROM:+0200
TZOFFSETTO:+0100
TZNAME:CET
DTSTART:20241027T010000
END:STANDARD
BEGIN:DAYLIGHT
TZOFFSETFROM:+0100
TZOFFSETTO:+0200
TZNAME:CEST
DTSTART:20250330T010000
END:DAYLIGHT
BEGIN:STANDARD
TZOFFSETFROM:+0200
TZOFFSETTO:+0100
TZNAME:CET
DTSTART:20251026T010000
END:STANDARD
BEGIN:DAYLIGHT
TZOFFSETFROM:+0100
TZOFFSETTO:+0200
TZNAME:CEST
DTSTART:20260329T010000
END:DAYLIGHT
BEGIN:STANDARD
TZOFFSETFROM:+0200
TZOFFSETTO:+0100
TZNAME:CET
DTSTART:20261025T010000
END:STANDARD
BEGIN:DAYLIGHT
TZOFFSETFROM:+0100
TZOFFSETTO:+0200
TZNAME:CEST
DTSTART:20270328T010000
END:DAYLIGHT
BEGIN:STANDARD
TZOFFSETFROM:+0200
TZOFFSETTO:+0100
TZNAME:CET
DTSTART:20271031T010000
END:STANDARD
END:VTIMEZONE
BEGIN:VEVENT
DTSTART;TZID=Europe/Brussels:20260126T190000
DTEND;TZID=Europe/Brussels:20260126T220000
DTSTAMP:20260422T080513
CREATED:20251226T063037Z
LAST-MODIFIED:20260127T073913Z
UID:10001670-1769454000-1769464800@quartier-noh.be
SUMMARY:26/01\, repas dansant au CDC
DESCRIPTION:SAVE THE DATE: Le lundi 26 janvier l’équipe du Coin des Cerises organise un repas dansant\, sous la forme d’auberge espagnole et fond musical avec leurs participant(e)s. \nVous êtes les bienvenu(e)s entre 18h et 21h à la salle du Mariënsteen 29\, 1120 NOH \n  \n \n  \nMeilleurs Vœux pour 2026 de la part de toute l’équipe de l’asbl Le coin des cerises\nSSM Le coin des cerises – Le p’ti cerisier (Lieu de Liens) – PCS (Projet de Cohésion Sociale) \n  \n  \n 
URL:https://quartier-noh.be/agenda/26-01-repas-dansant-au-cdc/
LOCATION:Salle Marïensteen (Val Maria)\, Marïensteen 29\, Bruxelles\, 1120\, Belgique
ATTACH;FMTTYPE=image/jpeg:https://quartier-noh.be/wp-content/uploads/2026/01/repas-dansant-au-CDC-imea.jpg
GEO:50.8997167;4.3822301
X-APPLE-STRUCTURED-LOCATION;VALUE=URI;X-ADDRESS=Salle Marïensteen (Val Maria) Marïensteen 29 Bruxelles 1120 Belgique;X-APPLE-RADIUS=500;X-TITLE=Marïensteen 29:geo:4.3822301,50.8997167
END:VEVENT
BEGIN:VEVENT
DTSTART;TZID=Europe/Brussels:20251007T160000
DTEND;TZID=Europe/Brussels:20251007T160000
DTSTAMP:20260422T080513
CREATED:20250829T123447Z
LAST-MODIFIED:20251008T052758Z
UID:10001603-1759852800-1759852800@quartier-noh.be
SUMMARY:7/10\, Inauguration du Lieu de Liens
DESCRIPTION:Galia\, coordinatrice du PCS Versailles Val-Marie\, et toute son équipe vous invitent le 7/10 à 14h à l’inauguration du Lieu de Liens. \nTout le mois de septembre a été consacré à la réinvention du Lieu de Liens du Coin des Cerises\, tout a été repensé\, le nom\, le logo\, le type d’activités\, et ceci en co-construction avec les habitués du LDL. \nTout le monde est le bienvenu pour cette inauguration et présentation\, n’hésitez surtout pas à passer 😉
URL:https://quartier-noh.be/agenda/7-10-inauguration-du-lieu-de-liens/
LOCATION:Salle Marïensteen (Val Maria)\, Marïensteen 29\, Bruxelles\, 1120\, Belgique
ATTACH;FMTTYPE=image/jpeg:https://quartier-noh.be/wp-content/uploads/2025/10/flyer-inauguration-LDL-imea.jpg
GEO:50.8997167;4.3822301
X-APPLE-STRUCTURED-LOCATION;VALUE=URI;X-ADDRESS=Salle Marïensteen (Val Maria) Marïensteen 29 Bruxelles 1120 Belgique;X-APPLE-RADIUS=500;X-TITLE=Marïensteen 29:geo:4.3822301,50.8997167
END:VEVENT
BEGIN:VEVENT
DTSTART;TZID=Europe/Brussels:20240122T190000
DTEND;TZID=Europe/Brussels:20240122T220000
DTSTAMP:20260422T080513
CREATED:20231214T064059Z
LAST-MODIFIED:20240124T105820Z
UID:10001284-1705950000-1705960800@quartier-noh.be
SUMMARY:Le 22/01\, Karaoké auberge espagnole
DESCRIPTION:Le Coin des Cerises vous souhaite une bonne année 2024 et vous invite pour un karaoké -auberge espagnole ! \nQuand ?   Le lundi 22/01 de 18h00 à 21h00 \nOù ?     au Mariënsteen 29\, 1120 NOH \nTous les détails sur l’affiche ci-dessous
URL:https://quartier-noh.be/agenda/si-on-chantait-si-on-chantait-%f0%9f%8e%b6/
LOCATION:Salle Marïensteen (Val Maria)\, Marïensteen 29\, Bruxelles\, 1120\, Belgique
ATTACH;FMTTYPE=image/jpeg:https://quartier-noh.be/wp-content/uploads/2024/01/Capture-decran-2024-01-16-a-19.08.36.jpg
GEO:50.8997167;4.3822301
X-APPLE-STRUCTURED-LOCATION;VALUE=URI;X-ADDRESS=Salle Marïensteen (Val Maria) Marïensteen 29 Bruxelles 1120 Belgique;X-APPLE-RADIUS=500;X-TITLE=Marïensteen 29:geo:4.3822301,50.8997167
END:VEVENT
BEGIN:VEVENT
DTSTART;TZID=Europe/Brussels:20230522T200000
DTEND;TZID=Europe/Brussels:20230522T230000
DTSTAMP:20260422T080513
CREATED:20230414T070033Z
LAST-MODIFIED:20230523T052046Z
UID:10001156-1684785600-1684796400@quartier-noh.be
SUMMARY:Lundi 22/05 souper-Karaoké !
DESCRIPTION:Venez nous rejoindre lundi prochain pour un souper-Karaoke !\nRv à 18h\, formule auberge espagnole (chacun ramène de quoi grignoter si possible).\nA lundi\,\nLe coin des Cerises
URL:https://quartier-noh.be/agenda/lundi-22-05-souper-karaoke/
LOCATION:Salle Marïensteen (Val Maria)\, Marïensteen 29\, Bruxelles\, 1120\, Belgique
ATTACH;FMTTYPE=image/jpeg:https://quartier-noh.be/wp-content/uploads/2023/05/Capture-decran-2023-05-16-a-13.23.01.jpg
GEO:50.8997167;4.3822301
X-APPLE-STRUCTURED-LOCATION;VALUE=URI;X-ADDRESS=Salle Marïensteen (Val Maria) Marïensteen 29 Bruxelles 1120 Belgique;X-APPLE-RADIUS=500;X-TITLE=Marïensteen 29:geo:4.3822301,50.8997167
END:VEVENT
BEGIN:VEVENT
DTSTART;TZID=Europe/Brussels:20230109T183000
DTEND;TZID=Europe/Brussels:20230109T183000
DTSTAMP:20260422T080513
CREATED:20221220T101103Z
LAST-MODIFIED:20230113T102527Z
UID:10001073-1673289000-1673289000@quartier-noh.be
SUMMARY:Le 09/01\, drink de Nouvel An à la salle Mariënsteen
DESCRIPTION:Le Coin des Cerises et Comensia vous invitent à leur drink de nouvel an (+ auberge espagnole) à la salle Mariënsteen\, ce lundi 9 janvier 2023 de 17h30 à 20h30. \n  \nToutes les explications sur l’affiche ci-dessous : \n 
URL:https://quartier-noh.be/agenda/le-09-01-drink-de-nouvel-an-au-coin-des-cerises/
LOCATION:Salle Marïensteen (Val Maria)\, Marïensteen 29\, Bruxelles\, 1120\, Belgique
ATTACH;FMTTYPE=image/jpeg:https://quartier-noh.be/wp-content/uploads/2023/01/Capture-décran-2023-01-08-à-09.30.30.jpg
GEO:50.8997167;4.3822301
X-APPLE-STRUCTURED-LOCATION;VALUE=URI;X-ADDRESS=Salle Marïensteen (Val Maria) Marïensteen 29 Bruxelles 1120 Belgique;X-APPLE-RADIUS=500;X-TITLE=Marïensteen 29:geo:4.3822301,50.8997167
END:VEVENT
END:VCALENDAR