BEGIN:VCALENDAR
VERSION:2.0
PRODID:-//Quartier Neder-Over-Heembeek - ECPv6.15.20//NONSGML v1.0//EN
CALSCALE:GREGORIAN
METHOD:PUBLISH
X-WR-CALNAME:Quartier Neder-Over-Heembeek
X-ORIGINAL-URL:https://quartier-noh.be
X-WR-CALDESC:Évènements pour Quartier Neder-Over-Heembeek
REFRESH-INTERVAL;VALUE=DURATION:PT1H
X-Robots-Tag:noindex
X-PUBLISHED-TTL:PT1H
BEGIN:VTIMEZONE
TZID:Europe/Brussels
BEGIN:DAYLIGHT
TZOFFSETFROM:+0100
TZOFFSETTO:+0200
TZNAME:CEST
DTSTART:20200329T010000
END:DAYLIGHT
BEGIN:STANDARD
TZOFFSETFROM:+0200
TZOFFSETTO:+0100
TZNAME:CET
DTSTART:20201025T010000
END:STANDARD
BEGIN:DAYLIGHT
TZOFFSETFROM:+0100
TZOFFSETTO:+0200
TZNAME:CEST
DTSTART:20210328T010000
END:DAYLIGHT
BEGIN:STANDARD
TZOFFSETFROM:+0200
TZOFFSETTO:+0100
TZNAME:CET
DTSTART:20211031T010000
END:STANDARD
BEGIN:DAYLIGHT
TZOFFSETFROM:+0100
TZOFFSETTO:+0200
TZNAME:CEST
DTSTART:20220327T010000
END:DAYLIGHT
BEGIN:STANDARD
TZOFFSETFROM:+0200
TZOFFSETTO:+0100
TZNAME:CET
DTSTART:20221030T010000
END:STANDARD
BEGIN:DAYLIGHT
TZOFFSETFROM:+0100
TZOFFSETTO:+0200
TZNAME:CEST
DTSTART:20230326T010000
END:DAYLIGHT
BEGIN:STANDARD
TZOFFSETFROM:+0200
TZOFFSETTO:+0100
TZNAME:CET
DTSTART:20231029T010000
END:STANDARD
END:VTIMEZONE
BEGIN:VEVENT
DTSTART;TZID=Europe/Brussels:20220105T180000
DTEND;TZID=Europe/Brussels:20220105T210000
DTSTAMP:20260425T005419
CREATED:20211225T090806Z
LAST-MODIFIED:20220108T113015Z
UID:10000963-1641405600-1641416400@quartier-noh.be
SUMMARY:Mercredi 5/01 : Ciné débat à l'AMO
DESCRIPTION:Le mercredi 5 janvier 2022 ciné-débat à l’AMO de NOH\n\nLe film projeté sera l’un de ceux-ci:\n\n\n\nV for Vendetta\n\n\nsynopsis: V pour Vendetta se passe dans l’Angleterre fasciste de l’après-guerre nucléaire\, où apparaît un justicier implacable signant ses actes de la lettre V. Obsédé par le souvenir d’une culture désormais interdite et disparue\, cruel et terriblement intelligent\, V s’attaque aux plus forts symboles de la dictature\, animé par un immense désir de vengeance et une indicible haine. La police du Commandeur est sommée de mettre fin ses agissements au plus vite…\n———————————\n\n\n\nMatrix\n\nsynopsis: Programmeur anonyme dans un service administratif le jour\, Thomas Anderson devient Neo la nuit venue. Sous ce pseudonyme\, il est l’un des pirates les plus recherchés du cyber-espace. À cheval entre deux mondes\, Neo est assailli par d’étranges songes et des messages cryptés provenant d’un certain Morpheus. Celui-ci l’exhorte à aller au-delà des apparences et à trouver la réponse à la question qui hante constamment ses pensées : qu’est-ce que la Matrice ?\n———————————\n\n\n\nThe Game\n\n\n\nsynopsis: Nicholas Van Orton\, homme d’affaires avisé\, reçoit le jour de son anniversaire un étrange cadeau que lui offre son frère Conrad. Il s’agit d’un jeu. Nicholas découvre peu à peu que les enjeux en sont très élevés\, bien qu’il ne soit certain ni des règles\, ni même de l’objectif réel. Il prend peu à peu conscience qu’il est manipulé jusque dans sa propre maison par des conspirateurs inconnus qui semblent vouloir faire voler sa vie en éclats.
URL:https://quartier-noh.be/agenda/mercredi-5-01-cine-debat-a-lamo/
LOCATION:AMO de NOH\, Rue de Heembeek\, 240-242\, Neder-Over-Heembeek\, 1120\, Belgique
ATTACH;FMTTYPE=image/jpeg:https://quartier-noh.be/wp-content/uploads/2022/01/Capture-décran-2022-01-02-à-10.02.44.jpg
GEO:50.8932402;4.3825065
X-APPLE-STRUCTURED-LOCATION;VALUE=URI;X-ADDRESS=AMO de NOH Rue de Heembeek 240-242 Neder-Over-Heembeek 1120 Belgique;X-APPLE-RADIUS=500;X-TITLE=Rue de Heembeek\, 240-242:geo:4.3825065,50.8932402
END:VEVENT
BEGIN:VEVENT
DTSTART;TZID=Europe/Brussels:20211222T173000
DTEND;TZID=Europe/Brussels:20211222T200000
DTSTAMP:20260425T005419
CREATED:20211129T183052Z
LAST-MODIFIED:20211224T075600Z
UID:10000962-1640194200-1640203200@quartier-noh.be
SUMMARY:Mercredi 22/12\, soirée casino à l'AMO
DESCRIPTION:L’AMO de NOH organise le soir du mercredi 22 décembre une soirée “casino“. \nCela promet d’être sympa…
URL:https://quartier-noh.be/agenda/mercredi-22-12-soiree-casino-a-lamo/
LOCATION:AMO de NOH\, Rue de Heembeek\, 240-242\, Neder-Over-Heembeek\, 1120\, Belgique
ATTACH;FMTTYPE=image/jpeg:https://quartier-noh.be/wp-content/uploads/2021/12/soirée-casino-amo-1.jpeg
GEO:50.8932402;4.3825065
X-APPLE-STRUCTURED-LOCATION;VALUE=URI;X-ADDRESS=AMO de NOH Rue de Heembeek 240-242 Neder-Over-Heembeek 1120 Belgique;X-APPLE-RADIUS=500;X-TITLE=Rue de Heembeek\, 240-242:geo:4.3825065,50.8932402
END:VEVENT
BEGIN:VEVENT
DTSTART;TZID=Europe/Brussels:20211105T140000
DTEND;TZID=Europe/Brussels:20211105T170000
DTSTAMP:20260425T005419
CREATED:20211002T162801Z
LAST-MODIFIED:20250804T055005Z
UID:10000838-1636120800-1636131600@quartier-noh.be
SUMMARY:Vendredi 5/11\, apprends les bases de la mécanique vélo avec l'AMO
DESCRIPTION:Envie de devenir un des futurs mécanicien vélo de l’AMO? \nViens découvrir les bases de la mécanique vélo ce vendredi 5/11/2021 de 14h à 17h au 11 Tour Japonaise. \nActivité pour les 8 – 14 ans. \nPlus d’info? 0495/16.29.88
URL:https://quartier-noh.be/agenda/decouvrir-les-bases-de-la-mecanique-velo-avec-la-m-o/
LOCATION:Bruxelles\, 1120\, Belgique
CATEGORIES:activités vélo
ATTACH;FMTTYPE=image/jpeg:https://quartier-noh.be/wp-content/uploads/2021/10/atelier-vélo-AMO.jpeg
GEO:50.8936568;4.3845296
END:VEVENT
BEGIN:VEVENT
DTSTART;TZID=Europe/Brussels:20211102T180000
DTEND;TZID=Europe/Brussels:20211102T210000
DTSTAMP:20260425T005419
CREATED:20211002T161800Z
LAST-MODIFIED:20211104T091521Z
UID:10000836-1635876000-1635886800@quartier-noh.be
SUMMARY:Mardi 2/11 : Ciné débat à l'AMO
DESCRIPTION:L’AMO de NOH a le plaisir d’inviter les jeunes du secondaire à une projection de film suivi d’un débat !\nVous pourrez choisir le film qui vous plait le plus entre trois propositions.\nRDV le mardi 2/11 à 18h à l’AMO \, 242 rue de Heembeek\nN’hésite pas à amener de quoi grignoter !
URL:https://quartier-noh.be/agenda/mardi-2-11-cine-debat-a-lamo/
LOCATION:AMO de NOH\, Rue de Heembeek\, 240-242\, Neder-Over-Heembeek\, 1120\, Belgique
ATTACH;FMTTYPE=image/png:https://quartier-noh.be/wp-content/uploads/2021/10/Capture-décran-2021-10-31-à-09.43.54.png
GEO:50.8932402;4.3825065
X-APPLE-STRUCTURED-LOCATION;VALUE=URI;X-ADDRESS=AMO de NOH Rue de Heembeek 240-242 Neder-Over-Heembeek 1120 Belgique;X-APPLE-RADIUS=500;X-TITLE=Rue de Heembeek\, 240-242:geo:4.3825065,50.8932402
END:VEVENT
BEGIN:VEVENT
DTSTART;TZID=Europe/Brussels:20210719T180000
DTEND;TZID=Europe/Brussels:20210719T210000
DTSTAMP:20260425T005419
CREATED:20210629T192233Z
LAST-MODIFIED:20210720T082949Z
UID:10000928-1626717600-1626728400@quartier-noh.be
SUMMARY:Lundi 19/07 ciné + débat sur la thématique du film à l'AMO
DESCRIPTION:Vu la réussite du ciné de lundi passé\, L’AMO nous propose une nouvelle séance pour ce lundi 19 juillet.\nLa séance de ciné sera suivie d’un débat sur la thématique du film…\nPour les jeunes de 12 à 18 ans\n\n4 films au choix :\n  \n1) Kick-Ass https://www.youtube.com/watch?v=__3BUMBPSus\n2) Las Vegas 21 https://www.youtube.com/watch?v=3Ngavhd2178\n3) Paranoiak https://www.youtube.com/watch?v=pvFpcGAnnTY\n4) Nos jours heureux https://www.youtube.com/watch?v=pu-NYxy5epQ
URL:https://quartier-noh.be/agenda/lundi-19-07-cine-debat-sur-la-thematique-du-film-a-lamo/
LOCATION:AMO de NOH\, Rue de Heembeek\, 240-242\, Neder-Over-Heembeek\, 1120\, Belgique
ATTACH;FMTTYPE=image/png:https://quartier-noh.be/wp-content/uploads/2021/07/Capture-décran-2021-07-12-à-19.31.39.png
GEO:50.8932402;4.3825065
X-APPLE-STRUCTURED-LOCATION;VALUE=URI;X-ADDRESS=AMO de NOH Rue de Heembeek 240-242 Neder-Over-Heembeek 1120 Belgique;X-APPLE-RADIUS=500;X-TITLE=Rue de Heembeek\, 240-242:geo:4.3825065,50.8932402
END:VEVENT
END:VCALENDAR