BEGIN:VCALENDAR
VERSION:2.0
PRODID:-//Quartier Neder-Over-Heembeek - ECPv6.15.20//NONSGML v1.0//EN
CALSCALE:GREGORIAN
METHOD:PUBLISH
X-WR-CALNAME:Quartier Neder-Over-Heembeek
X-ORIGINAL-URL:https://quartier-noh.be
X-WR-CALDESC:Évènements pour Quartier Neder-Over-Heembeek
REFRESH-INTERVAL;VALUE=DURATION:PT1H
X-Robots-Tag:noindex
X-PUBLISHED-TTL:PT1H
BEGIN:VTIMEZONE
TZID:Europe/Brussels
BEGIN:DAYLIGHT
TZOFFSETFROM:+0100
TZOFFSETTO:+0200
TZNAME:CEST
DTSTART:20210328T010000
END:DAYLIGHT
BEGIN:STANDARD
TZOFFSETFROM:+0200
TZOFFSETTO:+0100
TZNAME:CET
DTSTART:20211031T010000
END:STANDARD
BEGIN:DAYLIGHT
TZOFFSETFROM:+0100
TZOFFSETTO:+0200
TZNAME:CEST
DTSTART:20220327T010000
END:DAYLIGHT
BEGIN:STANDARD
TZOFFSETFROM:+0200
TZOFFSETTO:+0100
TZNAME:CET
DTSTART:20221030T010000
END:STANDARD
BEGIN:DAYLIGHT
TZOFFSETFROM:+0100
TZOFFSETTO:+0200
TZNAME:CEST
DTSTART:20230326T010000
END:DAYLIGHT
BEGIN:STANDARD
TZOFFSETFROM:+0200
TZOFFSETTO:+0100
TZNAME:CET
DTSTART:20231029T010000
END:STANDARD
BEGIN:DAYLIGHT
TZOFFSETFROM:+0100
TZOFFSETTO:+0200
TZNAME:CEST
DTSTART:20240331T010000
END:DAYLIGHT
BEGIN:STANDARD
TZOFFSETFROM:+0200
TZOFFSETTO:+0100
TZNAME:CET
DTSTART:20241027T010000
END:STANDARD
BEGIN:DAYLIGHT
TZOFFSETFROM:+0100
TZOFFSETTO:+0200
TZNAME:CEST
DTSTART:20250330T010000
END:DAYLIGHT
BEGIN:STANDARD
TZOFFSETFROM:+0200
TZOFFSETTO:+0100
TZNAME:CET
DTSTART:20251026T010000
END:STANDARD
BEGIN:DAYLIGHT
TZOFFSETFROM:+0100
TZOFFSETTO:+0200
TZNAME:CEST
DTSTART:20260329T010000
END:DAYLIGHT
BEGIN:STANDARD
TZOFFSETFROM:+0200
TZOFFSETTO:+0100
TZNAME:CET
DTSTART:20261025T010000
END:STANDARD
END:VTIMEZONE
BEGIN:VEVENT
DTSTART;TZID=Europe/Brussels:20250907T121500
DTEND;TZID=Europe/Brussels:20250907T140000
DTSTAMP:20260424T161707
CREATED:20250807T052828Z
LAST-MODIFIED:20251020T083428Z
UID:10001570-1757247300-1757253600@quartier-noh.be
SUMMARY:7/09\, Balade Pic-Nick !
DESCRIPTION:Le 7 septembre pour clôturer en beauté cette saison 2025 de Living en Ville\, on vous propose une super balade suivie d’un pique-nique pour ceux qui le désirent … \n\n\n \n\n\n\n \n \nVenez- vous balader\, pique-niquer\, écouter des histoires et de la musique. \nChacun apporte son pique-nique et un plaid ou un fauteuil pliant. \nLes boissons seront offertes par la Promenade Verte. \n  \n\nDépart : 10h15 Place Peter Benoit. Arrivée : 12h à la Ferme Nos Pilifs (En cas de forte pluie\, l’activité sera annulée). \nInscription souhaitée chez madame Nicole Frenay – 0478/28 04 25  ou par mail à  nicole.frenay@hotmail.com \n\n \n  \n\n  \n\nKom mee en geniet van een wandeling met een picknick\, verhalen en muziek.  \nBreng je eigen picknick en deken of klapstoel mee.  \nDe drankjes worden voorzien door de Groene wandeling. \nVertrek: 10u15 Peter Benoitplein. Aankomst: 12u Nos Pilifs (Bij hevige regenval wordt de activiteit geannuleerd). \nInschrijven gewenst: Frenay Nicole – 0478/280425 – nicole.frenay@hotmail.com \n\n  \n\n  \n\nLiving en Ville\, dat is jouw living in de openbare ruimte. \nLiving en Ville\, votre salon dans l’espace public. \n\n \n \n \n 
URL:https://quartier-noh.be/agenda/7-09-balade-pic-nick/
CATEGORIES:balade,Living en Ville
ATTACH;FMTTYPE=image/jpeg:https://quartier-noh.be/wp-content/uploads/2025/08/balade-picnic-imea.jpg
END:VEVENT
BEGIN:VEVENT
DTSTART;TZID=Europe/Brussels:20250609T193000
DTEND;TZID=Europe/Brussels:20250609T213000
DTSTAMP:20260424T161707
CREATED:20250428T060009Z
LAST-MODIFIED:20250610T081123Z
UID:10001539-1749497400-1749504600@quartier-noh.be
SUMMARY:9/06\, marche Saint-Landry
DESCRIPTION:La marche Saint-Landry se déroule traditionnellement chaque année le 9 juin. \nA l’arrivée à la chapelle\, on est récompensé par une bonne bière Saint-Lenderik ou un bon jus de fruit\, et le retour se fera à la lueur des lampes de poches\, les flambeaux ne sont pas autorisés cette année en raison des risques d’incendie… \nUne tradition à NOH très conviviale et sympathique… \, il s’agit déjà de la XXIIIème édition ! \nL’essayer\, c’est l’adopter ! \nRendez-vous à 19h15 à l’angle de l’avenue de Tyras et de l’avenue de Béjar. \nAccès en tram 10 et bus 56 et 47 – Arrêt Mercator \nNous partirons du bois Saint Landry vers la chapelle située au domaine des Trois Fontaines \n* voir détails ci-dessous \n  \n\n  \nInscription souhaitée en cliquant ICI\n  \n\n  \n \n \nInschrijving gewenst door HIER te klikken
URL:https://quartier-noh.be/agenda/9-06-marche-saint-landry/
ATTACH;FMTTYPE=image/jpeg:https://quartier-noh.be/wp-content/uploads/2025/05/Capture-decran-2025-05-27-a-18.05.27.jpg
END:VEVENT
BEGIN:VEVENT
DTSTART;TZID=Europe/Brussels:20250427T163000
DTEND;TZID=Europe/Brussels:20250427T163000
DTSTAMP:20260424T161707
CREATED:20250326T080305Z
LAST-MODIFIED:20250427T154950Z
UID:10001495-1745771400-1745771400@quartier-noh.be
SUMMARY:27/04\, Conférence sur Saint-Landry
DESCRIPTION:  \nSaint qui ? Ah oui\, son nom en flamand Lendrik est un bâtiment culturel près de la place et Lenderik le nom d’une bière aux Pilifs. \nMais à part ça ?? Notre seul saint Heembeekois aurait vécu au 7e siècle mais peu s’en souviennent. \nEt pourtant la jolie chapelle qui lui est dédiée se trouve au parc Trois-Fontaines… à Vilvoorde ! \nVenez nombreux à la conférence et vous serez incollables sur un sacré volet de notre histoire locale. \nQuand ? le dimanche 27 avril 2025\, à 14h30 \nOù ? Ferme Nos Pilifs\, salle Estaminet \nSaint-Landry fanion reçu de Benoit Elleboudt  \n\n\n\n\n\n\n\n\nUne invitation de La Promenade verte de N-O-Heembeek asbl / De Groene Wandeling van N-O-Heembeek vzw \nPlus d’infos : pv.gw.noh@gmail.com \n 
URL:https://quartier-noh.be/agenda/27-04-conference-sur-saint-landry/
LOCATION:La Ferme Nos Pilifs\, Trassersweg 347\, Neder-Over-Heembeek\, 1120\, Belgique
ATTACH;FMTTYPE=image/jpeg:https://quartier-noh.be/wp-content/uploads/2025/03/conference-saint-landry-imea.jpg
GEO:50.9036778;4.388813
X-APPLE-STRUCTURED-LOCATION;VALUE=URI;X-ADDRESS=La Ferme Nos Pilifs Trassersweg 347 Neder-Over-Heembeek 1120 Belgique;X-APPLE-RADIUS=500;X-TITLE=Trassersweg 347:geo:4.388813,50.9036778
END:VEVENT
BEGIN:VEVENT
DTSTART;TZID=Europe/Brussels:20240608T213000
DTEND;TZID=Europe/Brussels:20240609T003000
DTSTAMP:20260424T161707
CREATED:20240428T065358Z
LAST-MODIFIED:20250708T131426Z
UID:10001353-1717882200-1717893000@quartier-noh.be
SUMMARY:Le 8 juin\, marche aux flambeaux Saint-Landry
DESCRIPTION:La marche Saint-Landry\, des Pilifs jusqu’à la chapelle Saint-Landry\, se déroule traditionnellement chaque année le 9 juin. \nMais à titre tout à fait exceptionnel en raison du dimanche d’élections la marche aura lieu le 8 juin et non le 9 ! \nA l’arrivée à la chapelle\, on est récompensé par une bonne bière Saint-Lenderik ou un bon jus de fruit\, et le retour se fait à la lueur des chandelles…\nUne tradition à NOH très conviviale et sympathique… \, il s’agit déjà de la XXIIème édition ! \nL’essayer\, c’est l’adopter ! \n* Départ à 19h30 à la Ferme Nos Pilifs\, Trassersweg 347 \n* voir détails ci-dessous \nAttention !\nL’inscription préalable à nos activités est vivement recommandée (pour des raisons d’organisation et d’assurance)\,\nvia 0475 77 05 63 ou pv.gw.noh@gmail.com\nPour tout renseignement : 0475 77 05 63 ou pv.gw.noh@gmail.com \nNous vous attendons nombreux ! \nLa Promenade verte de N-O-Heembeek asbl\nDe Groene Wandeling van N-O-Heembeek vzw \n  \n\n \n 
URL:https://quartier-noh.be/agenda/samedi-8-juin-marche-aux-flambeaux-saint-landry/
CATEGORIES:balade
ATTACH;FMTTYPE=image/jpeg:https://quartier-noh.be/wp-content/uploads/2024/05/Capture-decran-2024-06-01-a-11.04.55.jpg
END:VEVENT
BEGIN:VEVENT
DTSTART;TZID=Europe/Brussels:20230910T123000
DTEND;TZID=Europe/Brussels:20230910T160000
DTSTAMP:20260424T161707
CREATED:20230810T091118Z
LAST-MODIFIED:20250708T131459Z
UID:10001208-1694349000-1694361600@quartier-noh.be
SUMMARY:Le 10/09\, Balade Pick-nick Ludique
DESCRIPTION:FR / \nBalade Pick-nick Ludique \nPromenons-nous dans le quartier\, découvrons la nature tout en nous amusant (aire de jeux\, jeux éducatifs). \nNous mangerons notre propre pique-nique à la fin de la balade. Les boissons seront offertes par la Promenade Verte. \nDépart Place Peter Benoit à 10h30’ \nInscription souhaitée : nicole.frenay@hotmail.com \nInfos : Nicole 0478/280425  /  Hendrik 0478/502901 \nPrévoir de bonnes chaussures \nEn cas de forte pluie \, l’activité sera annulée \nLes enfants doivent être accompagnés et restent sous la responsabilité des parents ou accompagnateurs. \nNL/ \nLudieke Balade Pick-Nick \nWandel met ons door de buurt en ontdek al spelend de natuur. Breng je Picknick mee.\nDrankjes worden aangeboden door de Groene Wandeling. \nVertrek Peter Benoit plein om 10u30 \nInschrijving gewensd : nicole.frenay@hotmail.com \nInfo tel : Nicole 0478/280425    /     Hendrik 0478/502901 \nGoede stapschoenen voorzien. \nIn geval van felle regen wordt de activiteit geannuleerd. \nKinderen worden vergezeld en blijven onder verantwoordelijkheid van hun ouders of begeleiders. \n 
URL:https://quartier-noh.be/agenda/le-10-09-balade-pick-nick-ludique/
LOCATION:Place Peter Benoit\, Place Peter Benoit\, Bruxelles\, 1120\, Belgique
CATEGORIES:balade
ATTACH;FMTTYPE=image/jpeg:https://quartier-noh.be/wp-content/uploads/2023/08/Capture-decran-2023-08-19-a-09.06.19.jpg
GEO:50.895639573943;4.388344496434
X-APPLE-STRUCTURED-LOCATION;VALUE=URI;X-ADDRESS=Place Peter Benoit Place Peter Benoit Bruxelles 1120 Belgique;X-APPLE-RADIUS=500;X-TITLE=Place Peter Benoit:geo:4.388344496434,50.895639573943
END:VEVENT
BEGIN:VEVENT
DTSTART;TZID=Europe/Brussels:20230609T213000
DTEND;TZID=Europe/Brussels:20230610T003000
DTSTAMP:20260424T161708
CREATED:20230427T080005Z
LAST-MODIFIED:20230610T054202Z
UID:10001159-1686346200-1686357000@quartier-noh.be
SUMMARY:Vendredi 9 juin\, marche aux flambeaux
DESCRIPTION:FR/ \nLa marche Saint-Landry\, des Pilifs jusqu’à la chapelle Saint-Landry\, se déroule chaque année le 9 juin.\nA l’arrivée à la chapelle\, on est récompensé par une bonne bière Saint-Lenderik ou un bon jus de fruit\, et le retour se fait à la lueur des chandelles…\nUne tradition à NOH\, très conviviale et sympathique… L’essayer\, c’est l’adopter ! \n \n\n  \nNL/ \nDe Sint-Lendriks-wandeling\, van de Pilifs naar de Sint Lendriks-kapel\, vindt elk jaar plaats op 9 juni.\nBij aankomst in de kapel worden we beloond met een goed Sint-Lendriksbier of een vruchtensap\, en de terugkeer is bij kaarslicht… \nEen traditie in Heembeek\, heel gezellig en plezant… Proberen is adopteren!
URL:https://quartier-noh.be/agenda/vendredi-9-juin-marche-aux-flambeaux/
ATTACH;FMTTYPE=image/jpeg:https://quartier-noh.be/wp-content/uploads/2023/06/Balade-nocturne-contee-PV-131225-imea.jpeg
END:VEVENT
BEGIN:VEVENT
DTSTART;TZID=Europe/Brussels:20230603T160000
DTEND;TZID=Europe/Brussels:20230603T160000
DTSTAMP:20260424T161708
CREATED:20230424T184047Z
LAST-MODIFIED:20230603T175901Z
UID:10001171-1685808000-1685808000@quartier-noh.be
SUMMARY:Le 3 juin\, visite guidée du campus Solvay
DESCRIPTION:Le 3 juin\, à 14h précise\, démarre une visite guidée naturaliste exceptionnelle du campus Solvay dont nous découvrirons la riche biodiversité et les spécimens rares qui y ont été détectés. \nRendez-vous à l’entrée située rue de Ransbeek 310. \nPour des raisons d’organisation l’inscription est obligatoire à pv.gw.noh@gmail.com
URL:https://quartier-noh.be/agenda/le-03-06-visite-guidee-du-campus-solvay/
ATTACH;FMTTYPE=image/jpeg:https://quartier-noh.be/wp-content/uploads/2023/05/Capture-decran-2023-05-28-a-21.37.05.jpg
END:VEVENT
BEGIN:VEVENT
DTSTART;TZID=Europe/Brussels:20220911T130000
DTEND;TZID=Europe/Brussels:20220911T170000
DTSTAMP:20260424T161708
CREATED:20220813T070511Z
LAST-MODIFIED:20250708T131520Z
UID:10000992-1662901200-1662915600@quartier-noh.be
SUMMARY:Le 11/09\, Balade Pique-nique
DESCRIPTION:Le dimanche 11 septembre\, balade pique-nique guidée avec la Promenade Verte de Neder-Over-Heembeek Groene Wandeling. \n* point de départ = place Peter Benoit\n* réservation souhaitée via nicole.frenay@hotmail.com
URL:https://quartier-noh.be/agenda/le-11-09-balade-pique-nique/
LOCATION:Place Peter Benoit\, Place Peter Benoit\, Bruxelles\, 1120\, Belgique
CATEGORIES:balade
ATTACH;FMTTYPE=image/jpeg:https://quartier-noh.be/wp-content/uploads/2022/08/Capture-décran-2022-08-28-à-09.07.21.jpg
GEO:50.895639573943;4.388344496434
X-APPLE-STRUCTURED-LOCATION;VALUE=URI;X-ADDRESS=Place Peter Benoit Place Peter Benoit Bruxelles 1120 Belgique;X-APPLE-RADIUS=500;X-TITLE=Place Peter Benoit:geo:4.388344496434,50.895639573943
END:VEVENT
END:VCALENDAR