BEGIN:VCALENDAR
VERSION:2.0
PRODID:-//Quartier Neder-Over-Heembeek - ECPv6.15.20//NONSGML v1.0//EN
CALSCALE:GREGORIAN
METHOD:PUBLISH
X-ORIGINAL-URL:https://quartier-noh.be
X-WR-CALDESC:Évènements pour Quartier Neder-Over-Heembeek
REFRESH-INTERVAL;VALUE=DURATION:PT1H
X-Robots-Tag:noindex
X-PUBLISHED-TTL:PT1H
BEGIN:VTIMEZONE
TZID:Europe/Brussels
BEGIN:DAYLIGHT
TZOFFSETFROM:+0100
TZOFFSETTO:+0200
TZNAME:CEST
DTSTART:20200329T010000
END:DAYLIGHT
BEGIN:STANDARD
TZOFFSETFROM:+0200
TZOFFSETTO:+0100
TZNAME:CET
DTSTART:20201025T010000
END:STANDARD
BEGIN:DAYLIGHT
TZOFFSETFROM:+0100
TZOFFSETTO:+0200
TZNAME:CEST
DTSTART:20210328T010000
END:DAYLIGHT
BEGIN:STANDARD
TZOFFSETFROM:+0200
TZOFFSETTO:+0100
TZNAME:CET
DTSTART:20211031T010000
END:STANDARD
BEGIN:DAYLIGHT
TZOFFSETFROM:+0100
TZOFFSETTO:+0200
TZNAME:CEST
DTSTART:20220327T010000
END:DAYLIGHT
BEGIN:STANDARD
TZOFFSETFROM:+0200
TZOFFSETTO:+0100
TZNAME:CET
DTSTART:20221030T010000
END:STANDARD
END:VTIMEZONE
BEGIN:VEVENT
DTSTART;TZID=Europe/Brussels:20211217T093000
DTEND;TZID=Europe/Brussels:20211217T123000
DTSTAMP:20260421T224722
CREATED:20211129T174822Z
LAST-MODIFIED:20251002T070607Z
UID:10000849-1639733400-1639744200@quartier-noh.be
SUMMARY:Vendredi 17/12 de 9h30 à 12h30\, Atelier culinaire : "C'est nous les chef.f.es"
DESCRIPTION:Étant donné que l’automne est un deuxième printemps\, nous pourrons le célébrer en consommant ses nombreuses pousses toutes nouvelles! \nCe sera aussi l’occasion d’explorer l’art de la récolte sauvage et de la tisanerie\, tout en légèreté.” \nPlaces limitées … n’oubliez pas de réserver :\naccueilnoh@maisondelacreation.org – 02 270 20 68 \n  \nSe rencontrer\, échanger\, découvrir autour des pratiques culinaires.\nLa ferme urbaine de Neder-Over-Heembeek vous propose des cycles d’ateliers thématiques avec ses légumes locaux et de saison. Un moment convivial\, nature et gourmand.\nUne fois par mois\, une dizaine d’habitant.es se réunissent\, cuisinent et échangent sur les différentes pratiques de conservation et de transformation. La Maison de la création devient ainsi le centre d’expérimentations culinaires\, où se mêlent des rires\, des idées\, des odeurs de gingembre et de betterave. \nEn partenariat avec la Ferme Urbaine de Neder-over-Heembeek. \n\n\n\nVers le site de la Maison de la Création  \n\n 
URL:https://quartier-noh.be/agenda/mardi-13-10-atelier-culinaire-cest-nous-les-chef-f-es-3-2-2/
LOCATION:Maison de la Création – MC NOH\, Place Saint-Nicolas 3\, Neder-Over-Heembeek\, 1120\, Belgique
CATEGORIES:cuisine
ATTACH;FMTTYPE=image/jpeg:https://quartier-noh.be/wp-content/uploads/2021/09/Capture-décran-2021-09-19-à-10.18.59.jpg
GEO:50.8940004;4.3846128
X-APPLE-STRUCTURED-LOCATION;VALUE=URI;X-ADDRESS=Maison de la Création – MC NOH Place Saint-Nicolas 3 Neder-Over-Heembeek 1120 Belgique;X-APPLE-RADIUS=500;X-TITLE=Place Saint-Nicolas 3:geo:4.3846128,50.8940004
END:VEVENT
BEGIN:VEVENT
DTSTART;TZID=Europe/Brussels:20211022T093000
DTEND;TZID=Europe/Brussels:20211022T123000
DTSTAMP:20260421T224722
CREATED:20211002T152702Z
LAST-MODIFIED:20251002T070621Z
UID:10000960-1634895000-1634905800@quartier-noh.be
SUMMARY:Vendredi 22/10 Atelier culinaire : "C'est nous les chef.f.es"
DESCRIPTION:Se rencontrer\, échanger\, découvrir autour des pratiques culinaires.\nLa ferme urbaine de Neder-Over-Heembeek vous propose des cycles d’ateliers thématiques avec ses légumes locaux et de saison. Un moment convivial\, nature et gourmand.\nUne fois par mois\, une dizaine d’habitant.es se réunissent\, cuisinent et échangent sur les différentes pratiques de conservation et de transformation. La Maison de la Création devient ainsi le centre d’expérimentations culinaires\, où se mêlent des rires\, des idées\, des odeurs de gingembre et de betterave. \n\nPlaces limitées … n’oubliez pas de réserver :\naccueilnoh@maisondelacreation.org – 02 270 20 68\n\n\nProchains ateliers les 26/11 & 17/12 \nEn partenariat avec la Ferme Urbaine de Neder-over-Heembeek. \n\nVers le site de la Maison de la Création  \n\n 
URL:https://quartier-noh.be/agenda/mardi-13-10-atelier-culinaire-cest-nous-les-chef-f-es-3-2/
LOCATION:Maison de la Création – MC NOH\, Place Saint-Nicolas 3\, Neder-Over-Heembeek\, 1120\, Belgique
CATEGORIES:cuisine
ATTACH;FMTTYPE=image/jpeg:https://quartier-noh.be/wp-content/uploads/2021/09/Capture-décran-2021-09-19-à-10.18.59.jpg
GEO:50.8940004;4.3846128
X-APPLE-STRUCTURED-LOCATION;VALUE=URI;X-ADDRESS=Maison de la Création – MC NOH Place Saint-Nicolas 3 Neder-Over-Heembeek 1120 Belgique;X-APPLE-RADIUS=500;X-TITLE=Place Saint-Nicolas 3:geo:4.3846128,50.8940004
END:VEVENT
END:VCALENDAR